BEGIN:VCALENDAR
VERSION:2.0
CALSCALE:GREGORIAN
PRODID:-//Diputació de Barcelona//DibaCMS//EN
BEGIN:VEVENT
UID:219
DTSTAMP:20260424T212405
DTSTART:20170923T100000
DTEND:20170923T140000
SUMMARY:Esdeveniment de prova Glòria Ruiz - Esborrar
LOCATION:
METHOD:PUBLISH
X-WR-CALNAME:altasegarra@altasegarra.cat
X-WR-TIMEZONE:Europe/Madrid
DESCRIPTION:Muy lejos, más allá de las montañas de palabras, alejados de los países de las vocales y las consonantes, viven los textos simulados. Viven aislados en casas de letras, en la costa de la semántica, un gran océano de lenguas.

URI:https://www.altasegarra.cat/actualitat/agenda/esdeveniment-de-prova-gloria-ruiz-esborrar.html
CLASS:PUBLIC
END:VEVENT
END:VCALENDAR
